BEGIN:VCALENDAR
VERSION:2.0
PRODID:-//Carole Cooper Consulting - ECPv6.15.20//NONSGML v1.0//EN
CALSCALE:GREGORIAN
METHOD:PUBLISH
X-WR-CALNAME:Carole Cooper Consulting
X-ORIGINAL-URL:https://carolecooperconsulting.com
X-WR-CALDESC:Events for Carole Cooper Consulting
REFRESH-INTERVAL;VALUE=DURATION:PT1H
X-Robots-Tag:noindex
X-PUBLISHED-TTL:PT1H
BEGIN:VTIMEZONE
TZID:Australia/Brisbane
BEGIN:STANDARD
TZOFFSETFROM:+1000
TZOFFSETTO:+1000
TZNAME:AEST
DTSTART:20240101T000000
END:STANDARD
END:VTIMEZONE
BEGIN:VEVENT
DTSTART;TZID=Australia/Brisbane:20251023T093000
DTEND;TZID=Australia/Brisbane:20251023T153000
DTSTAMP:20260420T203738
CREATED:20241023T020904Z
LAST-MODIFIED:20250923T063918Z
UID:3046-1761211800-1761233400@carolecooperconsulting.com
SUMMARY:Feedback Without Fear
DESCRIPTION:
URL:https://carolecooperconsulting.com/event/feedback-without-fear/
LOCATION:Brisbane CBD (Venue confirmed upon registration)\, Brisbane CBD
ATTACH;FMTTYPE=image/jpeg:https://carolecooperconsulting.com/wp-content/uploads/2025/07/Feedback.jpg
ORGANIZER;CN="Carole Cooper":MAILTO:carole@carolecooperconsulting.com
END:VEVENT
BEGIN:VEVENT
DTSTART;TZID=Australia/Brisbane:20251022T093000
DTEND;TZID=Australia/Brisbane:20251022T153000
DTSTAMP:20260420T203738
CREATED:20241022T013921Z
LAST-MODIFIED:20250908T053854Z
UID:2815-1761125400-1761147000@carolecooperconsulting.com
SUMMARY:Leadership Without a Title
DESCRIPTION:
URL:https://carolecooperconsulting.com/event/leadership-without-a-title/
LOCATION:Brisbane CBD (Venue confirmed upon registration)\, Brisbane CBD
ATTACH;FMTTYPE=image/jpeg:https://carolecooperconsulting.com/wp-content/uploads/2025/07/Leadership-without-a-title.jpg
ORGANIZER;CN="Carole Cooper":MAILTO:carole@carolecooperconsulting.com
END:VEVENT
END:VCALENDAR